BEGIN:VCALENDAR
VERSION:2.0
PRODID:-//Code for Mitaka / Musashino 公式サイト - ECPv6.2.7//NONSGML v1.0//EN
CALSCALE:GREGORIAN
METHOD:PUBLISH
X-WR-CALNAME:Code for Mitaka / Musashino 公式サイト
X-ORIGINAL-URL:https://code4mm.org
X-WR-CALDESC:Code for Mitaka / Musashino 公式サイト のイベント
REFRESH-INTERVAL;VALUE=DURATION:PT1H
X-Robots-Tag:noindex
X-PUBLISHED-TTL:PT1H
BEGIN:VTIMEZONE
TZID:Asia/Tokyo
BEGIN:STANDARD
TZOFFSETFROM:+0900
TZOFFSETTO:+0900
TZNAME:JST
DTSTART:20200101T000000
END:STANDARD
END:VTIMEZONE
BEGIN:VEVENT
DTSTART;TZID=Asia/Tokyo:20201017T130000
DTEND;TZID=Asia/Tokyo:20201018T200000
DTSTAMP:20260424T105207
CREATED:20201006T203912Z
LAST-MODIFIED:20201009T152946Z
UID:1718-1602939600-1603051200@code4mm.org
SUMMARY:Code for Japan Summit 2020
DESCRIPTION:Code for Japan Summit\n			 \n										summit2020.code4japan.org
URL:https://code4mm.org/event/code-for-japan-summit-2020/
END:VEVENT
BEGIN:VEVENT
DTSTART;TZID=Asia/Tokyo:20201031T204500
DTEND;TZID=Asia/Tokyo:20201031T230000
DTSTAMP:20260424T105207
CREATED:20201109T142447Z
LAST-MODIFIED:20201109T155229Z
UID:2061-1604177100-1604185200@code4mm.org
SUMMARY:宇宙版オンライン人狼ゲーム「Among Us」で遊ぼう - Code for間交流テストプレイ
DESCRIPTION:10/31(土)夜、Code for Mitaka / Musashinoの月イチ定例会後、YouTubeやゲーム配信プラットフォームなどでプチブレイク中の「宇宙版オンライン人狼ゲーム「Among Us (アマング・アス)」で遊びます。 \n\n\n	\n					\n							\n				\n			\n				Among Us | Innersloth - Creators of Among Us and The Henry Stickmin Collection!\n			 \n							\n					Among Us is a party game of teamwork and…				\n										www.innersloth.com\n					\n	\n\n\n—\n【開催後レポート】 \nCode for Mitaka / Musashinoから3名、Code for Nerimaから3名お招きして、6名でプレイ。Code for間の交流も兼ねることとなりました。 \nDiscordによるボイスチャットを織り交ぜてのプレイ。\n初めての方ばかりでしたが、レクチャー後みなさんすぐに慣れ始め、テストプレイ会という位置づけでしたが、のめり込んで遊んでしまいました。 \n終わったあとに「本当に楽しかった」という声多数、「意外とアクション性あるね」「人間性が出る…」といった声を頂きました。また随時開催していきたいと思います。 \nと、次回以降はオンライン配信が得意なメンバーが複数いるので、LIVEゲーム実況の試みもやっていきたいと企んでいます。 \nAmong Usプレイ後に画面を記念スクリーンショット
URL:https://code4mm.org/event/lets-play-among-us/
END:VEVENT
END:VCALENDAR