BEGIN:VCALENDAR
VERSION:2.0
PRODID:-//Code for Mitaka / Musashino 公式サイト - ECPv6.2.7//NONSGML v1.0//EN
CALSCALE:GREGORIAN
METHOD:PUBLISH
X-WR-CALNAME:Code for Mitaka / Musashino 公式サイト
X-ORIGINAL-URL:https://code4mm.org
X-WR-CALDESC:Code for Mitaka / Musashino 公式サイト のイベント
REFRESH-INTERVAL;VALUE=DURATION:PT1H
X-Robots-Tag:noindex
X-PUBLISHED-TTL:PT1H
BEGIN:VTIMEZONE
TZID:Asia/Tokyo
BEGIN:STANDARD
TZOFFSETFROM:+0900
TZOFFSETTO:+0900
TZNAME:JST
DTSTART:20210101T000000
END:STANDARD
END:VTIMEZONE
BEGIN:VEVENT
DTSTART;TZID=Asia/Tokyo:20210306T130000
DTEND;TZID=Asia/Tokyo:20210306T150000
DTSTAMP:20260424T040942
CREATED:20210304T131831Z
LAST-MODIFIED:20210304T133743Z
UID:2683-1615035600-1615042800@code4mm.org
SUMMARY:OPEN DATA DAY 2021 オープンデータを学ぼう by Code for Fochu
DESCRIPTION:3/6(土)はオープンデータ・デイ(https://opendataday.org/ja/)。\nオープンデータはシビックテック/Code for活動の本丸といっても言い過ぎではありません。 \n当日、Code for Fuchuさんの「OPEN DATA DAY 2021 オープンデータを学ぼう」にも\nCode for Mitaka / Musashinoメンバー数人で参加して、ディスカッションしたり、\nオープンデータについて学んだりしてきます。楽しみです❣ \nhttps://www.facebook.com/events/474951387002816\nオンライン・事前申込Zoomでの開催
URL:https://code4mm.org/event/learn-open-data-cff/
ATTACH;FMTTYPE=image/jpeg:https://code4mm.org/wp-content/uploads/2021/03/152613228_3711763945582627_1243082569403970404_o.jpg
END:VEVENT
END:VCALENDAR